BEGIN:VCALENDAR
VERSION:2.0
PRODID:-//The DESK - The leading source of information for bond traders - ECPv6.10.1.1//NONSGML v1.0//EN
CALSCALE:GREGORIAN
METHOD:PUBLISH
X-ORIGINAL-URL:https://www.fi-desk.com
X-WR-CALDESC:Events for The DESK - The leading source of information for bond traders
REFRESH-INTERVAL;VALUE=DURATION:PT1H
X-Robots-Tag:noindex
X-PUBLISHED-TTL:PT1H
BEGIN:VTIMEZONE
TZID:Europe/Amsterdam
BEGIN:DAYLIGHT
TZOFFSETFROM:+0100
TZOFFSETTO:+0200
TZNAME:CEST
DTSTART:20250330T010000
END:DAYLIGHT
BEGIN:STANDARD
TZOFFSETFROM:+0200
TZOFFSETTO:+0100
TZNAME:CET
DTSTART:20251026T010000
END:STANDARD
TZID:Europe/London
BEGIN:DAYLIGHT
TZOFFSETFROM:+0000
TZOFFSETTO:+0100
TZNAME:BST
DTSTART:20250330T010000
END:DAYLIGHT
BEGIN:STANDARD
TZOFFSETFROM:+0100
TZOFFSETTO:+0000
TZNAME:GMT
DTSTART:20251026T010000
END:STANDARD
END:VTIMEZONE
BEGIN:VEVENT
DTSTART;TZID=Europe/Amsterdam:20251007T080000
DTEND;TZID=Europe/Amsterdam:20251008T170000
DTSTAMP:20260421T121426
CREATED:20250627T171342Z
LAST-MODIFIED:20250627T171342Z
UID:24921-1759824000-1759942800@www.fi-desk.com
SUMMARY:AFME's OPTIC 2025 (Operations\, Post-Trade\, Technology and Innovation Conference)
DESCRIPTION:The Desk is pleased to partner with AFME for OPTIC 2025 (Operations\, Post-Trade\, Technology and Innovation Conference) which will take place in Amsterdam on the 7-8 of October.\nThis unmissable conference brings together 350+ industry leaders to explore technology’s role in transforming European capital markets\, with a focus on operations and post-trade. \nRegister now and hear from influential panellists and headline keynote speakers\, including Alexandra Jour-Schröder\, Deputy Director General\, European Commission and Steven Maijoor\, Executive Board Member and Chair of Supervision\, De Nederlandsche Bank. \nUse code TD15 for 15% off.\n  \n  \n  \n 
URL:https://www.fi-desk.com/event/afmes-optic-2025-operations-post-trade-technology-and-innovation-conference/
LOCATION:Leonardo Royal Hotel Amsterdam\, Paul van Vlissingenstraat 24\, Amsterdam\, 1096 BK\, Netherlands
ATTACH;FMTTYPE=image/jpeg:https://www.fi-desk.com/wp-content/uploads/2025/06/OPTIC-2025_TD_1200x600.jpg
END:VEVENT
BEGIN:VEVENT
DTSTART;VALUE=DATE:20251022
DTEND;VALUE=DATE:20251023
DTSTAMP:20260421T121426
CREATED:20250627T162906Z
LAST-MODIFIED:20250627T174154Z
UID:24910-1761091200-1761177599@www.fi-desk.com
SUMMARY:AFME's European High Yield and Private Credit Conference 2025
DESCRIPTION:The Desk is pleased to partner with AFME for their European High Yield and Private Credit Conference 2025\, which will take place in London on the 22 of October.\nThis unmissable conference brings together the leading names in the European High Yield\, Leveraged Loan and Private Credit / Direct Lending markets\, providing topical and invaluable discussions\, and an opportunity to network. \nThe conference features keynote presentations\, panel discussions\, and interactive networking sessions\, covering key areas of interest for arrangers/ underwriters\, corporates\, investors\, law firms\, ratings agencies\, data providers and other market participants. \nUse code TD15 for 15% off.\n  \n  \n  \n 
URL:https://www.fi-desk.com/event/afmes-european-high-yield-and-private-credit-conference-2025/
LOCATION:1 America Square\, 17 Crosswall\, London\, EC3M 2LB​\, United Kingdom
ATTACH;FMTTYPE=image/jpeg:https://www.fi-desk.com/wp-content/uploads/2025/06/AFME-HY_22.10.25_1200x600.jpg
END:VEVENT
END:VCALENDAR