BEGIN:VCALENDAR
VERSION:2.0
PRODID:-//The DESK - The leading source of information for bond traders - ECPv6.10.1.1//NONSGML v1.0//EN
CALSCALE:GREGORIAN
METHOD:PUBLISH
X-WR-CALNAME:The DESK - The leading source of information for bond traders
X-ORIGINAL-URL:https://www.fi-desk.com
X-WR-CALDESC:Events for The DESK - The leading source of information for bond traders
REFRESH-INTERVAL;VALUE=DURATION:PT1H
X-Robots-Tag:noindex
X-PUBLISHED-TTL:PT1H
BEGIN:VTIMEZONE
TZID:Europe/Brussels
BEGIN:DAYLIGHT
TZOFFSETFROM:+0100
TZOFFSETTO:+0200
TZNAME:CEST
DTSTART:20250330T010000
END:DAYLIGHT
BEGIN:STANDARD
TZOFFSETFROM:+0200
TZOFFSETTO:+0100
TZNAME:CET
DTSTART:20251026T010000
END:STANDARD
END:VTIMEZONE
BEGIN:VEVENT
DTSTART;VALUE=DATE:20251112
DTEND;VALUE=DATE:20251113
DTSTAMP:20260421T110343
CREATED:20250627T160758Z
LAST-MODIFIED:20250627T161002Z
UID:24901-1762905600-1762991999@www.fi-desk.com
SUMMARY:AFME's 20th Annual European Government Bond Conference
DESCRIPTION:The DESK is pleased to partner with AFME for their 20th Annual European Government Bond Conference\, taking place in Brussels on 12 November 2025.\nThe conference brings together industry leaders and experts to discuss the latest trends and developments impacting European Debt Management Offices (DMOs) and EGB markets. \nThis conference has become a firm fixture on the sovereign debt market community’s calendar and reflects the importance of ongoing dialogue and cooperation between policymakers\, regulators and the financial sector. \nWe are pleased to welcome Arnaud Marès\, Chief European Economist\, Citi who will deliver a keynote speech at the event. \nAnd get 15% off with code TD15.\n  \n 
URL:https://www.fi-desk.com/event/afmes-20th-annual-european-government-bond-conference/
LOCATION:Radisson Collection Hotel\, Brussels\, Rue du Fossé aux Loups 47\, Brussels\, B-1000\, Belgium
ATTACH;FMTTYPE=image/jpeg:https://www.fi-desk.com/wp-content/uploads/2025/06/AFME_GovtBond24_TD_1000x500.jpg
END:VEVENT
END:VCALENDAR