BEGIN:VCALENDAR
VERSION:2.0
PRODID:-//The DESK - The leading source of information for bond traders - ECPv6.10.1.1//NONSGML v1.0//EN
CALSCALE:GREGORIAN
METHOD:PUBLISH
X-ORIGINAL-URL:https://www.fi-desk.com
X-WR-CALDESC:Events for The DESK - The leading source of information for bond traders
REFRESH-INTERVAL;VALUE=DURATION:PT1H
X-Robots-Tag:noindex
X-PUBLISHED-TTL:PT1H
BEGIN:VTIMEZONE
TZID:Europe/Berlin
BEGIN:DAYLIGHT
TZOFFSETFROM:+0100
TZOFFSETTO:+0200
TZNAME:CEST
DTSTART:20260329T010000
END:DAYLIGHT
BEGIN:STANDARD
TZOFFSETFROM:+0200
TZOFFSETTO:+0100
TZNAME:CET
DTSTART:20261025T010000
END:STANDARD
END:VTIMEZONE
BEGIN:VEVENT
DTSTART;TZID=Europe/Berlin:20260519T080000
DTEND;TZID=Europe/Berlin:20260520T170000
DTSTAMP:20260421T001242
CREATED:20260130T122156Z
LAST-MODIFIED:20260401T091113Z
UID:27376-1779177600-1779296400@www.fi-desk.com
SUMMARY:AFME’s European Financial Integration Conference 2026
DESCRIPTION:AFME’s European Financial Integration Conference returns on 19–20 May\, bringing together senior policymakers\, industry leaders\, and regulators to discuss the next steps toward a more integrated European financial market.\nThis year’s agenda focuses on advancing the European Savings and Investments Union (SIU)\, simplifying regulatory frameworks\, strengthening supervision\, and leveraging innovation such as DLT to deepen Europe’s capital markets. The programme also explores global regulatory perspectives and the macroeconomic trends driving integration. \nJoin us in Frankfurt to help shape the future of Europe’s financial integration. \nThe DESK is pleased to partner with AFME for AFME’s European Financial Integration Conference 2026\, taking place on the 19 – 20 May 2026. \nRegister now with promocode FMF15 and save 15% \nEvent Link
URL:https://www.fi-desk.com/event/afmes-european-financial-integration-conference-2026/
LOCATION:The Westin Grand Frankfurt\, Konrad Adenauer Strasse 7\, Frankfurt\, D-60313\, Germany
ATTACH;FMTTYPE=image/jpeg:https://www.fi-desk.com/wp-content/uploads/2026/01/AFME-European-Integration-600x300-1.jpg
END:VEVENT
END:VCALENDAR