BEGIN:VCALENDAR
VERSION:2.0
PRODID:-//The DESK - The leading source of information for bond traders - ECPv6.10.1.1//NONSGML v1.0//EN
CALSCALE:GREGORIAN
METHOD:PUBLISH
X-WR-CALNAME:The DESK - The leading source of information for bond traders
X-ORIGINAL-URL:https://www.fi-desk.com
X-WR-CALDESC:Events for The DESK - The leading source of information for bond traders
REFRESH-INTERVAL;VALUE=DURATION:PT1H
X-Robots-Tag:noindex
X-PUBLISHED-TTL:PT1H
BEGIN:VTIMEZONE
TZID:America/New_York
BEGIN:DAYLIGHT
TZOFFSETFROM:-0500
TZOFFSETTO:-0400
TZNAME:EDT
DTSTART:20240310T070000
END:DAYLIGHT
BEGIN:STANDARD
TZOFFSETFROM:-0400
TZOFFSETTO:-0500
TZNAME:EST
DTSTART:20241103T060000
END:STANDARD
TZID:Australia/Sydney
BEGIN:STANDARD
TZOFFSETFROM:+1100
TZOFFSETTO:+1000
TZNAME:AEST
DTSTART:20240406T160000
END:STANDARD
BEGIN:DAYLIGHT
TZOFFSETFROM:+1000
TZOFFSETTO:+1100
TZNAME:AEDT
DTSTART:20241005T160000
END:DAYLIGHT
END:VTIMEZONE
BEGIN:VEVENT
DTSTART;TZID=America/New_York:20241016T080000
DTEND;TZID=America/New_York:20241016T170000
DTSTAMP:20260423T104921
CREATED:20240812T111438Z
LAST-MODIFIED:20240816T111846Z
UID:18352-1729065600-1729098000@www.fi-desk.com
SUMMARY:FIX Americas Trading Conference
DESCRIPTION:Building on the success of the Americas Trading Conferences\, the FIX Trading Community returns to New York with a full-day conference this October!\nHosted at etc.venues 360 Madison Avenue in New York on Wednesday 16th October\, this event will provide a series of presentations and panel discussions across a one-stream agenda filled with an interactive program addressing market needs. The agenda will provide delegates with impartial\, high-quality content and the knowledge and experience of the industry’s leading speakers. \nTopics to be covered include: \n\n\nAI Insights: Revolutionizing Financial Trading\nExplore how Artificial Intelligence (AI) transforms financial trading. Join industry leaders to discuss AI’s impact on algorithms\, risk management\, and execution decisions.\n\n\n\n\nStreamlining Trades: Reviewing T+1 Trade Processing in Financial Markets\nJoin industry experts and regulatory leaders for an insightful panel discussion on the evolution of trade processing in financial markets\, including the transition to T+1 (or even T+0) settlement cycles.\n\n\n\n\nDigital Assets Unveiled: Navigating the Future of Trading\nExplore the dynamic world of digital assets with our expert panel as they unveil the opportunities and challenges in this rapidly evolving space. From cryptocurrencies to tokenized assets\, the discussion will delve into how these digital innovations are reshaping traditional trading landscapes.\n\n\n\n\nElection Economics: Unpacking the Financial Markets’ Response to the US Presidential Election.\nJoin us for a timely panel discussion on the intricate relationship between US presidential elections and financial markets\n\n\n\n\nFIX at 30: Reflecting on Three Decades of Market Transformation\nCelebrate FIX Protocol’s 30-year legacy of revolutionizing global markets. Join industry pioneers and technologists as they trace FIX’s evolution\, its impact on trading\, and where we think the next 30 years will take us.\n\n\n\n\nForging a Path: Women in FIX: Explore the achievements and challenges of women in the FIX community. Join industry leaders as they discuss navigating careers in finance and technology\, promoting diversity\, and driving innovation.\n\n\nFollowed by a cocktail reception celebrating FIX 30 years of electronic trading.\n  \nFind out more: Americas Trading Conference 2024 \n\n 
URL:https://www.fi-desk.com/event/fix-americas-trading-conference/
LOCATION:etc Venues\, 360 Madison Avenue\, New York\, NY 10017\, United States
ATTACH;FMTTYPE=image/jpeg:https://www.fi-desk.com/wp-content/uploads/2024/08/Americas-2024-Global-Trading-The-Desk-1000x500-1.jpg
END:VEVENT
BEGIN:VEVENT
DTSTART;TZID=Australia/Sydney:20241017T080000
DTEND;TZID=Australia/Sydney:20241017T170000
DTSTAMP:20260423T104921
CREATED:20240812T112043Z
LAST-MODIFIED:20240812T112043Z
UID:18360-1729152000-1729184400@www.fi-desk.com
SUMMARY:FIX Australia
DESCRIPTION:The Australia FIX Trading Community Conference is a premier one-day event for anyone involved in Australia’s trading scene\, set to be one of the year’s highlights.\nJoin over 300 of your peers for a day packed with engaging discussions on hot topics such as market structure\, AI\, trading strategies\, industry trends\, ETFs\, digital assets\, technology innovations\, and updates from exchanges. Hear from some of the most respected leaders in the field and gain valuable insights into the future of institutional trading. \nDon’t miss the fantastic networking opportunities during our breaks\, lunch\, and exclusive cocktail reception. It’s the perfect chance to connect with top traders and technologists in the industry. \nAccess to these event is complimentary for FIX Trading Community members\, the buy-side\, regulators\, and specially invited guests subject to registration and confirmation. Attendance limits may apply. \nRegister Now!\nFor further information\, please visit: https://www.fix-events.com/australia \nFor sponsorship/exhibition and speaking opportunities: \nsammy.ho@fix-events.com\nFor general enquiries: barbara.law@fix-events.com \n\n 
URL:https://www.fi-desk.com/event/fix-australia/
LOCATION:The Fullerton Hotel Sydney\, 1 Martin Place\, Sydney\, NSW 2000\, Australia
ATTACH;FMTTYPE=image/jpeg:https://www.fi-desk.com/wp-content/uploads/2024/08/FIX-Australia_1200x600.jpg
END:VEVENT
END:VCALENDAR