BEGIN:VCALENDAR
VERSION:2.0
PRODID:-//The DESK - The leading source of information for bond traders - ECPv6.10.1.1//NONSGML v1.0//EN
CALSCALE:GREGORIAN
METHOD:PUBLISH
X-WR-CALNAME:The DESK - The leading source of information for bond traders
X-ORIGINAL-URL:https://www.fi-desk.com
X-WR-CALDESC:Events for The DESK - The leading source of information for bond traders
REFRESH-INTERVAL;VALUE=DURATION:PT1H
X-Robots-Tag:noindex
X-PUBLISHED-TTL:PT1H
BEGIN:VTIMEZONE
TZID:Europe/Stockholm
BEGIN:DAYLIGHT
TZOFFSETFROM:+0100
TZOFFSETTO:+0200
TZNAME:CEST
DTSTART:20250330T010000
END:DAYLIGHT
BEGIN:STANDARD
TZOFFSETFROM:+0200
TZOFFSETTO:+0100
TZNAME:CET
DTSTART:20251026T010000
END:STANDARD
END:VTIMEZONE
BEGIN:VEVENT
DTSTART;VALUE=DATE:20250603
DTEND;VALUE=DATE:20250604
DTSTAMP:20260421T123021
CREATED:20250404T125119Z
LAST-MODIFIED:20250404T125119Z
UID:21162-1748908800-1748995199@www.fi-desk.com
SUMMARY:FIX Nordic Trading Conference
DESCRIPTION:Join us in Stockholm for the Nordic Trading Conference\, where industry leaders will explore the key forces shaping Nordic and global markets. This year’s agenda covers regulatory shifts\, T+1 settlement\, ESG\, crypto investment strategies\, and retail trading trends\, with thought-provoking panels\, exclusive research presentations\, and dynamic debates. \nKey Topics: \n\nNordic Market Update – Insights on evolving regulations\, consolidation pressures\, T+1 settlement\, and ESG.\nCrypto Trading Unlocked – Expert-led discussion on investment trends and institutional strategies.\nThe Opening Hours Debate – Exclusive research presentation followed by a panel discussion on market trading hours.\nThe Productification of Retail Trading – Examining the evolution of retail trading products and industry innovation.\nTechnology & Innovation in Markets – A forward-looking session on fostering innovation in financial markets.\n\nDon’t miss the chance to connect with industry experts and shape the future of trading in the Nordic region! \nMore information / registration:  https://www.fixtrading.org/event/nordic2025/ \nEnquiries: events@fixtrading.org \n  \n  \n 
URL:https://www.fi-desk.com/event/fix-nordic-trading-conference/
LOCATION:Hotel At Six\, Stockholm\, Brunkebergstorg 6\, Stockholm\, SE 111 51\, Sweden
ATTACH;FMTTYPE=image/png:https://www.fi-desk.com/wp-content/uploads/2025/04/Nordics-Global-Trading-The-Desk-100x500-1.png
END:VEVENT
END:VCALENDAR