BEGIN:VCALENDAR
VERSION:2.0
PRODID:-//The DESK - The leading source of information for bond traders - ECPv6.10.1.1//NONSGML v1.0//EN
CALSCALE:GREGORIAN
METHOD:PUBLISH
X-WR-CALNAME:The DESK - The leading source of information for bond traders
X-ORIGINAL-URL:https://www.fi-desk.com
X-WR-CALDESC:Events for The DESK - The leading source of information for bond traders
REFRESH-INTERVAL;VALUE=DURATION:PT1H
X-Robots-Tag:noindex
X-PUBLISHED-TTL:PT1H
BEGIN:VTIMEZONE
TZID:Europe/London
BEGIN:DAYLIGHT
TZOFFSETFROM:+0000
TZOFFSETTO:+0100
TZNAME:BST
DTSTART:20240331T010000
END:DAYLIGHT
BEGIN:STANDARD
TZOFFSETFROM:+0100
TZOFFSETTO:+0000
TZNAME:GMT
DTSTART:20241027T010000
END:STANDARD
END:VTIMEZONE
BEGIN:VEVENT
DTSTART;TZID=Europe/London:20241002T080000
DTEND;TZID=Europe/London:20241003T170000
DTSTAMP:20260423T175055
CREATED:20240812T160908Z
LAST-MODIFIED:20240812T160908Z
UID:18392-1727856000-1727974800@www.fi-desk.com
SUMMARY:AFME - OPTIC 2024 (Operations\, Post-Trade\, Technology & Innovation Conference)
DESCRIPTION:OPTIC\, now in its third year\, is returning to the UK for 2024! AFME’s annual Operations\, Post-Trade\, Technology & Innovation conference brings together the industry’s leading voices\, to discuss the role of technology in developing capital markets in Europe\, with particular focus on the world of operations and post trade.\nOPTIC 2024 will take place in London\, with a two-day agenda packed with keynote addresses from regulatory authorities\, thought-provoking panels and speeches from Europe’s leading financial institutions\, and ample networking opportunities for attendees.  \nDelegates will hear from practitioners\, technologists\, and policymakers on the most important innovations happening here and now\, and what the future landscape might look like. Our expert speakers will discuss the opportunities and challenges that are unique to Europe\, and contemplate whether the capital markets ecosystem\, and its underpinning regulatory framework\, is well-positioned to support innovation. \nThis event is attended by senior capital market professionals working in operations\, post-trade\, technology\, regulation\, and policy.  \nRegular Registration fees:\n• AFME member: £819 + VAT\n• Non member: £1119 + VAT \nMulti-booking discount:\n• 10% off when booking 3 or more delegates at the same time\n• 20% off when booking 5 or more delegates at the same time \nMulti booking discounts can be applied at check out for group booking. \nComplimentary subject to verification:\n• Regulator: promo code REGULATOR\n• Press: promo code PRESS for in person attendance or VIRTUALPRESS to receive a live stream link (this link is only available to press) \nNote: Promo codes are case sensitive. \nTo discuss sponsorship opportunities\, please contact Cheryl Chickowski at cheryl.chickowski@afme.eu or on +44 (0)7824 874 391. \n\n 
URL:https://www.fi-desk.com/event/afme-optic-2024-operations-post-trade-technology-innovation-conference/
LOCATION:Convene at 22 Bishopsgate\, 22 Bishopsgate\, London\, EC2N 4BQ\, United Kingdom
ATTACH;FMTTYPE=image/jpeg:https://www.fi-desk.com/wp-content/uploads/2024/08/AFME-OPTIC-2024_1200x500.jpg
END:VEVENT
END:VCALENDAR