BEGIN:VCALENDAR
VERSION:2.0
PRODID:-//The DESK - The leading source of information for bond traders - ECPv6.10.1.1//NONSGML v1.0//EN
CALSCALE:GREGORIAN
METHOD:PUBLISH
X-ORIGINAL-URL:https://www.fi-desk.com
X-WR-CALDESC:Events for The DESK - The leading source of information for bond traders
REFRESH-INTERVAL;VALUE=DURATION:PT1H
X-Robots-Tag:noindex
X-PUBLISHED-TTL:PT1H
BEGIN:VTIMEZONE
TZID:Europe/London
BEGIN:DAYLIGHT
TZOFFSETFROM:+0000
TZOFFSETTO:+0100
TZNAME:BST
DTSTART:20240331T010000
END:DAYLIGHT
BEGIN:STANDARD
TZOFFSETFROM:+0100
TZOFFSETTO:+0000
TZNAME:GMT
DTSTART:20241027T010000
END:STANDARD
END:VTIMEZONE
BEGIN:VEVENT
DTSTART;TZID=Europe/London:20241021T080000
DTEND;TZID=Europe/London:20241021T173000
DTSTAMP:20260423T223058
CREATED:20241008T171931Z
LAST-MODIFIED:20241008T172343Z
UID:19267-1729497600-1729531800@www.fi-desk.com
SUMMARY:The Plato Technology Summit
DESCRIPTION:About the Plato Technology Summit\nThe Plato Technology Summit\, crafted by the Plato Partnership — 40 leading buy-side and sell-side firms returns on 21 October 2024 at the Leonardo Hotel St Paul’s in London. This one-day event promises innovative approaches\, setting it apart from typical finance conferences. \nAttendees can expect use-ase presentations from top tech companies\, collaborative problem-solving workshops\, and small-group fintech demonstrations in “FinTech Alley.” A highlight includes a panel by 100 Women in Fintech on “AI – Beyond the Hyperbole\,” alongside a keynote from Rebecca Healey of Redlap Consulting\, unveiling new research on the same topic. \nhttps://bit.ly/3NhiH0b \n \n  \n  \n  \n  \n\n 
URL:https://www.fi-desk.com/event/the-plato-technology-summit/
LOCATION:Leonardo Royal London St Paul’s\, 10 Godliman Street\, London\, London EC4V 5AJ\, United Kingdom
ATTACH;FMTTYPE=image/png:https://www.fi-desk.com/wp-content/uploads/2024/10/Plato-Summit-2024-Main-1000-x-500-px.png
END:VEVENT
END:VCALENDAR