BEGIN:VCALENDAR
VERSION:2.0
PRODID:-//The DESK - The leading source of information for bond traders - ECPv6.10.1.1//NONSGML v1.0//EN
CALSCALE:GREGORIAN
METHOD:PUBLISH
X-WR-CALNAME:The DESK - The leading source of information for bond traders
X-ORIGINAL-URL:https://www.fi-desk.com
X-WR-CALDESC:Events for The DESK - The leading source of information for bond traders
REFRESH-INTERVAL;VALUE=DURATION:PT1H
X-Robots-Tag:noindex
X-PUBLISHED-TTL:PT1H
BEGIN:VTIMEZONE
TZID:Europe/Amsterdam
BEGIN:DAYLIGHT
TZOFFSETFROM:+0100
TZOFFSETTO:+0200
TZNAME:CEST
DTSTART:20260329T010000
END:DAYLIGHT
BEGIN:STANDARD
TZOFFSETFROM:+0200
TZOFFSETTO:+0100
TZNAME:CET
DTSTART:20261025T010000
END:STANDARD
END:VTIMEZONE
BEGIN:VEVENT
DTSTART;TZID=Europe/Amsterdam:20260421T080000
DTEND;TZID=Europe/Amsterdam:20260423T170000
DTSTAMP:20260421T022606
CREATED:20260112T134447Z
LAST-MODIFIED:20260112T140631Z
UID:27147-1776758400-1776963600@www.fi-desk.com
SUMMARY:TradeTech 2026
DESCRIPTION:New city. Same industry-defining conversations.\nTradeTech touches down in Amsterdam\, 21-23 April 2026\, uniting 1\,300 senior market participants from across the institutional equity trading ecosystem. Connect with 500+ buy-side equity traders and trading technologists to explore cutting-edge innovations and take part in the discussions shaping the future of European equity markets. \nJoin TradeTech to gain actionable insights on: \n\nModernising the buy-side tech stack: How leading trading desks are rebuilding infrastructure with cloud\, AI\, and next-gen data architecture.\nEvolving liquidity dynamics: The rise of bilateral liquidity\, shifting transparency and price-formation models\, and new execution strategies.\nETF innovation: How active ETFs and options-based strategies are transforming workflows\, liquidity\, and trading approaches.\nRedesigning the trading desk: Evolving structures\, skillsets\, and operating models to meet growing scale\, complexity\, and cost pressures.\n\nTo learn more about the full speaker lineup and sessions\, check out the TradeTech agenda here: AGENDA \nAs a reader of The DESK or Global Trading you can register with an exclusive 10% discount by using code TTGTJ10 at the online checkout here: PRICING \n  \n \n  \n  \n 
URL:https://www.fi-desk.com/event/tradetech-2026/
LOCATION:RAI Amsterdam\, Europaplein 24\, Amsterdam\, 1078 GZ\, Netherlands
ATTACH;FMTTYPE=image/jpeg:https://www.fi-desk.com/wp-content/uploads/2026/01/TT2026_Amsterdam_1200x600.jpg
END:VEVENT
END:VCALENDAR