BEGIN:VCALENDAR
VERSION:2.0
PRODID:-//The DESK - The leading source of information for bond traders - ECPv6.10.1.1//NONSGML v1.0//EN
CALSCALE:GREGORIAN
METHOD:PUBLISH
X-WR-CALNAME:The DESK - The leading source of information for bond traders
X-ORIGINAL-URL:https://www.fi-desk.com
X-WR-CALDESC:Events for The DESK - The leading source of information for bond traders
REFRESH-INTERVAL;VALUE=DURATION:PT1H
X-Robots-Tag:noindex
X-PUBLISHED-TTL:PT1H
BEGIN:VTIMEZONE
TZID:Europe/London
BEGIN:DAYLIGHT
TZOFFSETFROM:+0000
TZOFFSETTO:+0100
TZNAME:BST
DTSTART:20260329T010000
END:DAYLIGHT
BEGIN:STANDARD
TZOFFSETFROM:+0100
TZOFFSETTO:+0000
TZNAME:GMT
DTSTART:20261025T010000
END:STANDARD
END:VTIMEZONE
BEGIN:VEVENT
DTSTART;TZID=Europe/London:20260209T080000
DTEND;TZID=Europe/London:20260211T170000
DTSTAMP:20260421T180017
CREATED:20260112T135859Z
LAST-MODIFIED:20260112T140256Z
UID:27153-1770624000-1770829200@www.fi-desk.com
SUMMARY:TradeTech FX USA 2026
DESCRIPTION:TradeTech FX returns to Miami this February\, taking place at the JW Marriot Marquis! TradeTech FX has firmly established itself as the leading FX trading event in North America\, with over 700 FX professionals in attendance including representation from all the major buy side\, sell side and technology partners.  \nCheck out the agenda to discover the full event schedule\, the speaker line-up\, the interactive learning formats\, and all the networking opportunities happening during the event.    \nWhat you can expect from TradeTech FX 2026:   \n\nJoin 700+ leaders in FX including 250+ Heads of FX Trading and Portfolio Management from North America’s biggest buy side firms.\nJoin 30 solution-focused sessions led by 100+ buy side heads of FX and gain practical insights that address your biggest priorities and help you future-proof your dealing desk.\nNetwork with your senior FX peers during our highly interactive sessions\, exclusive drinks receptions and extended networking breaks.\nDon’t miss the ‘Buy Side TradeTech FX Innovation Day’ (Feb 9th) for an unbeatable time-saving opportunity to meet and compare the leading FX platforms and solution providers.\n \n\nWe have an exclusive 10% discount for tickets to TradeTech FX. Simply quote FXDESK10 when booking tickets online.\nBuy side can register for free. This includes pension funds\, sovereign wealth funds\, insurance companies\, asset managers\, wealth managers\, hedge funds and corporates.  \nAgenda: CLICK HERE \nPricing: CLICK HERE
URL:https://www.fi-desk.com/event/tradetech-fx-usa-2026/
LOCATION:JW Marriott Marquis Miami\, 255 Biscayne Boulevard Way\, Miami\, FL\, 33131\, United States
ATTACH;FMTTYPE=image/jpeg:https://www.fi-desk.com/wp-content/uploads/2026/01/TTFX-USA-2026_800x400.jpg
END:VEVENT
END:VCALENDAR